BEGIN:VCALENDAR
VERSION:2.0
PRODID:-//FabLab Bruchsal e.V. - ECPv6.14.2//NONSGML v1.0//EN
CALSCALE:GREGORIAN
METHOD:PUBLISH
X-WR-CALNAME:FabLab Bruchsal e.V.
X-ORIGINAL-URL:https://fablab-bruchsal.de
X-WR-CALDESC:Veranstaltungen für FabLab Bruchsal e.V.
REFRESH-INTERVAL;VALUE=DURATION:PT1H
X-Robots-Tag:noindex
X-PUBLISHED-TTL:PT1H
BEGIN:VTIMEZONE
TZID:Europe/Berlin
BEGIN:DAYLIGHT
TZOFFSETFROM:+0100
TZOFFSETTO:+0200
TZNAME:CEST
DTSTART:20290325T010000
END:DAYLIGHT
BEGIN:STANDARD
TZOFFSETFROM:+0200
TZOFFSETTO:+0100
TZNAME:CET
DTSTART:20291028T010000
END:STANDARD
END:VTIMEZONE
BEGIN:VEVENT
DTSTART;TZID=Europe/Berlin:20290803T200000
DTEND;TZID=Europe/Berlin:20290803T235900
DTSTAMP:20260423T185630
CREATED:20250511T142803Z
LAST-MODIFIED:20250511T142803Z
UID:10002483-1880481600-1880495940@fablab-bruchsal.de
SUMMARY:Regulär geöffnet
DESCRIPTION:Das FabLab ist jeden Freitag ab 20 Uhr geöffnet\, offenes Ende. Mitglieder und Besucher können in dieser Zeit vorbei kommen und unsere Werkstatt nutzen.
URL:https://fablab-bruchsal.de/event/regulaer-geoeffnet/2029-08-03/
LOCATION:FabLab Bruchsal\, Bahnhofstr. 2\, Ubstadt Weiher\, Baden-Württemberg\, Deutschland
ORGANIZER;CN="FabLab Bruchsal":MAILTO:kontakt@fablab-bruchsal.de
END:VEVENT
BEGIN:VEVENT
DTSTART;TZID=Europe/Berlin:20290810T200000
DTEND;TZID=Europe/Berlin:20290810T235900
DTSTAMP:20260423T185630
CREATED:20250511T142803Z
LAST-MODIFIED:20250511T142803Z
UID:10002484-1881086400-1881100740@fablab-bruchsal.de
SUMMARY:Regulär geöffnet
DESCRIPTION:Das FabLab ist jeden Freitag ab 20 Uhr geöffnet\, offenes Ende. Mitglieder und Besucher können in dieser Zeit vorbei kommen und unsere Werkstatt nutzen.
URL:https://fablab-bruchsal.de/event/regulaer-geoeffnet/2029-08-10/
LOCATION:FabLab Bruchsal\, Bahnhofstr. 2\, Ubstadt Weiher\, Baden-Württemberg\, Deutschland
ORGANIZER;CN="FabLab Bruchsal":MAILTO:kontakt@fablab-bruchsal.de
END:VEVENT
BEGIN:VEVENT
DTSTART;TZID=Europe/Berlin:20290817T200000
DTEND;TZID=Europe/Berlin:20290817T235900
DTSTAMP:20260423T185630
CREATED:20250511T142803Z
LAST-MODIFIED:20250511T142803Z
UID:10002485-1881691200-1881705540@fablab-bruchsal.de
SUMMARY:Regulär geöffnet
DESCRIPTION:Das FabLab ist jeden Freitag ab 20 Uhr geöffnet\, offenes Ende. Mitglieder und Besucher können in dieser Zeit vorbei kommen und unsere Werkstatt nutzen.
URL:https://fablab-bruchsal.de/event/regulaer-geoeffnet/2029-08-17/
LOCATION:FabLab Bruchsal\, Bahnhofstr. 2\, Ubstadt Weiher\, Baden-Württemberg\, Deutschland
ORGANIZER;CN="FabLab Bruchsal":MAILTO:kontakt@fablab-bruchsal.de
END:VEVENT
BEGIN:VEVENT
DTSTART;TZID=Europe/Berlin:20290824T200000
DTEND;TZID=Europe/Berlin:20290824T235900
DTSTAMP:20260423T185630
CREATED:20250511T142803Z
LAST-MODIFIED:20250511T142803Z
UID:10002486-1882296000-1882310340@fablab-bruchsal.de
SUMMARY:Regulär geöffnet
DESCRIPTION:Das FabLab ist jeden Freitag ab 20 Uhr geöffnet\, offenes Ende. Mitglieder und Besucher können in dieser Zeit vorbei kommen und unsere Werkstatt nutzen.
URL:https://fablab-bruchsal.de/event/regulaer-geoeffnet/2029-08-24/
LOCATION:FabLab Bruchsal\, Bahnhofstr. 2\, Ubstadt Weiher\, Baden-Württemberg\, Deutschland
ORGANIZER;CN="FabLab Bruchsal":MAILTO:kontakt@fablab-bruchsal.de
END:VEVENT
BEGIN:VEVENT
DTSTART;TZID=Europe/Berlin:20290831T200000
DTEND;TZID=Europe/Berlin:20290831T235900
DTSTAMP:20260423T185630
CREATED:20250511T142803Z
LAST-MODIFIED:20250511T142803Z
UID:10002487-1882900800-1882915140@fablab-bruchsal.de
SUMMARY:Regulär geöffnet
DESCRIPTION:Das FabLab ist jeden Freitag ab 20 Uhr geöffnet\, offenes Ende. Mitglieder und Besucher können in dieser Zeit vorbei kommen und unsere Werkstatt nutzen.
URL:https://fablab-bruchsal.de/event/regulaer-geoeffnet/2029-08-31/
LOCATION:FabLab Bruchsal\, Bahnhofstr. 2\, Ubstadt Weiher\, Baden-Württemberg\, Deutschland
ORGANIZER;CN="FabLab Bruchsal":MAILTO:kontakt@fablab-bruchsal.de
END:VEVENT
END:VCALENDAR