BEGIN:VCALENDAR
VERSION:2.0
PRODID:-//FabLab Bruchsal e.V. - ECPv6.14.2//NONSGML v1.0//EN
CALSCALE:GREGORIAN
METHOD:PUBLISH
X-ORIGINAL-URL:https://fablab-bruchsal.de
X-WR-CALDESC:Veranstaltungen für FabLab Bruchsal e.V.
REFRESH-INTERVAL;VALUE=DURATION:PT1H
X-Robots-Tag:noindex
X-PUBLISHED-TTL:PT1H
BEGIN:VTIMEZONE
TZID:Europe/Berlin
BEGIN:DAYLIGHT
TZOFFSETFROM:+0100
TZOFFSETTO:+0200
TZNAME:CEST
DTSTART:20290325T010000
END:DAYLIGHT
BEGIN:STANDARD
TZOFFSETFROM:+0200
TZOFFSETTO:+0100
TZNAME:CET
DTSTART:20291028T010000
END:STANDARD
END:VTIMEZONE
BEGIN:VEVENT
DTSTART;TZID=Europe/Berlin:20290706T200000
DTEND;TZID=Europe/Berlin:20290706T235900
DTSTAMP:20260423T170844
CREATED:20250511T142803Z
LAST-MODIFIED:20250511T142803Z
UID:10002479-1878062400-1878076740@fablab-bruchsal.de
SUMMARY:Regulär geöffnet
DESCRIPTION:Das FabLab ist jeden Freitag ab 20 Uhr geöffnet\, offenes Ende. Mitglieder und Besucher können in dieser Zeit vorbei kommen und unsere Werkstatt nutzen.
URL:https://fablab-bruchsal.de/event/regulaer-geoeffnet/2029-07-06/
LOCATION:FabLab Bruchsal\, Bahnhofstr. 2\, Ubstadt Weiher\, Baden-Württemberg\, Deutschland
ORGANIZER;CN="FabLab Bruchsal":MAILTO:kontakt@fablab-bruchsal.de
END:VEVENT
BEGIN:VEVENT
DTSTART;TZID=Europe/Berlin:20290713T200000
DTEND;TZID=Europe/Berlin:20290713T235900
DTSTAMP:20260423T170844
CREATED:20250511T142803Z
LAST-MODIFIED:20250511T142803Z
UID:10002480-1878667200-1878681540@fablab-bruchsal.de
SUMMARY:Regulär geöffnet
DESCRIPTION:Das FabLab ist jeden Freitag ab 20 Uhr geöffnet\, offenes Ende. Mitglieder und Besucher können in dieser Zeit vorbei kommen und unsere Werkstatt nutzen.
URL:https://fablab-bruchsal.de/event/regulaer-geoeffnet/2029-07-13/
LOCATION:FabLab Bruchsal\, Bahnhofstr. 2\, Ubstadt Weiher\, Baden-Württemberg\, Deutschland
ORGANIZER;CN="FabLab Bruchsal":MAILTO:kontakt@fablab-bruchsal.de
END:VEVENT
BEGIN:VEVENT
DTSTART;TZID=Europe/Berlin:20290720T200000
DTEND;TZID=Europe/Berlin:20290720T235900
DTSTAMP:20260423T170844
CREATED:20250511T142803Z
LAST-MODIFIED:20250511T142803Z
UID:10002481-1879272000-1879286340@fablab-bruchsal.de
SUMMARY:Regulär geöffnet
DESCRIPTION:Das FabLab ist jeden Freitag ab 20 Uhr geöffnet\, offenes Ende. Mitglieder und Besucher können in dieser Zeit vorbei kommen und unsere Werkstatt nutzen.
URL:https://fablab-bruchsal.de/event/regulaer-geoeffnet/2029-07-20/
LOCATION:FabLab Bruchsal\, Bahnhofstr. 2\, Ubstadt Weiher\, Baden-Württemberg\, Deutschland
ORGANIZER;CN="FabLab Bruchsal":MAILTO:kontakt@fablab-bruchsal.de
END:VEVENT
BEGIN:VEVENT
DTSTART;TZID=Europe/Berlin:20290727T200000
DTEND;TZID=Europe/Berlin:20290727T235900
DTSTAMP:20260423T170844
CREATED:20250511T142803Z
LAST-MODIFIED:20250511T142803Z
UID:10002482-1879876800-1879891140@fablab-bruchsal.de
SUMMARY:Regulär geöffnet
DESCRIPTION:Das FabLab ist jeden Freitag ab 20 Uhr geöffnet\, offenes Ende. Mitglieder und Besucher können in dieser Zeit vorbei kommen und unsere Werkstatt nutzen.
URL:https://fablab-bruchsal.de/event/regulaer-geoeffnet/2029-07-27/
LOCATION:FabLab Bruchsal\, Bahnhofstr. 2\, Ubstadt Weiher\, Baden-Württemberg\, Deutschland
ORGANIZER;CN="FabLab Bruchsal":MAILTO:kontakt@fablab-bruchsal.de
END:VEVENT
END:VCALENDAR