BEGIN:VCALENDAR
VERSION:2.0
PRODID:-//FabLab Bruchsal e.V. - ECPv6.14.2//NONSGML v1.0//EN
CALSCALE:GREGORIAN
METHOD:PUBLISH
X-ORIGINAL-URL:https://fablab-bruchsal.de
X-WR-CALDESC:Veranstaltungen für FabLab Bruchsal e.V.
REFRESH-INTERVAL;VALUE=DURATION:PT1H
X-Robots-Tag:noindex
X-PUBLISHED-TTL:PT1H
BEGIN:VTIMEZONE
TZID:Europe/Berlin
BEGIN:DAYLIGHT
TZOFFSETFROM:+0100
TZOFFSETTO:+0200
TZNAME:CEST
DTSTART:20290325T010000
END:DAYLIGHT
BEGIN:STANDARD
TZOFFSETFROM:+0200
TZOFFSETTO:+0100
TZNAME:CET
DTSTART:20291028T010000
END:STANDARD
END:VTIMEZONE
BEGIN:VEVENT
DTSTART;TZID=Europe/Berlin:20290601T200000
DTEND;TZID=Europe/Berlin:20290601T235900
DTSTAMP:20260423T145701
CREATED:20250511T142803Z
LAST-MODIFIED:20250511T142803Z
UID:10002474-1875038400-1875052740@fablab-bruchsal.de
SUMMARY:Regulär geöffnet
DESCRIPTION:Das FabLab ist jeden Freitag ab 20 Uhr geöffnet\, offenes Ende. Mitglieder und Besucher können in dieser Zeit vorbei kommen und unsere Werkstatt nutzen.
URL:https://fablab-bruchsal.de/event/regulaer-geoeffnet/2029-06-01/
LOCATION:FabLab Bruchsal\, Bahnhofstr. 2\, Ubstadt Weiher\, Baden-Württemberg\, Deutschland
ORGANIZER;CN="FabLab Bruchsal":MAILTO:kontakt@fablab-bruchsal.de
END:VEVENT
BEGIN:VEVENT
DTSTART;TZID=Europe/Berlin:20290608T200000
DTEND;TZID=Europe/Berlin:20290608T235900
DTSTAMP:20260423T145701
CREATED:20250511T142803Z
LAST-MODIFIED:20250511T142803Z
UID:10002475-1875643200-1875657540@fablab-bruchsal.de
SUMMARY:Regulär geöffnet
DESCRIPTION:Das FabLab ist jeden Freitag ab 20 Uhr geöffnet\, offenes Ende. Mitglieder und Besucher können in dieser Zeit vorbei kommen und unsere Werkstatt nutzen.
URL:https://fablab-bruchsal.de/event/regulaer-geoeffnet/2029-06-08/
LOCATION:FabLab Bruchsal\, Bahnhofstr. 2\, Ubstadt Weiher\, Baden-Württemberg\, Deutschland
ORGANIZER;CN="FabLab Bruchsal":MAILTO:kontakt@fablab-bruchsal.de
END:VEVENT
BEGIN:VEVENT
DTSTART;TZID=Europe/Berlin:20290615T200000
DTEND;TZID=Europe/Berlin:20290615T235900
DTSTAMP:20260423T145701
CREATED:20250511T142803Z
LAST-MODIFIED:20250511T142803Z
UID:10002476-1876248000-1876262340@fablab-bruchsal.de
SUMMARY:Regulär geöffnet
DESCRIPTION:Das FabLab ist jeden Freitag ab 20 Uhr geöffnet\, offenes Ende. Mitglieder und Besucher können in dieser Zeit vorbei kommen und unsere Werkstatt nutzen.
URL:https://fablab-bruchsal.de/event/regulaer-geoeffnet/2029-06-15/
LOCATION:FabLab Bruchsal\, Bahnhofstr. 2\, Ubstadt Weiher\, Baden-Württemberg\, Deutschland
ORGANIZER;CN="FabLab Bruchsal":MAILTO:kontakt@fablab-bruchsal.de
END:VEVENT
BEGIN:VEVENT
DTSTART;TZID=Europe/Berlin:20290622T200000
DTEND;TZID=Europe/Berlin:20290622T235900
DTSTAMP:20260423T145701
CREATED:20250511T142803Z
LAST-MODIFIED:20250511T142803Z
UID:10002477-1876852800-1876867140@fablab-bruchsal.de
SUMMARY:Regulär geöffnet
DESCRIPTION:Das FabLab ist jeden Freitag ab 20 Uhr geöffnet\, offenes Ende. Mitglieder und Besucher können in dieser Zeit vorbei kommen und unsere Werkstatt nutzen.
URL:https://fablab-bruchsal.de/event/regulaer-geoeffnet/2029-06-22/
LOCATION:FabLab Bruchsal\, Bahnhofstr. 2\, Ubstadt Weiher\, Baden-Württemberg\, Deutschland
ORGANIZER;CN="FabLab Bruchsal":MAILTO:kontakt@fablab-bruchsal.de
END:VEVENT
BEGIN:VEVENT
DTSTART;TZID=Europe/Berlin:20290629T200000
DTEND;TZID=Europe/Berlin:20290629T235900
DTSTAMP:20260423T145701
CREATED:20250511T142803Z
LAST-MODIFIED:20250511T142803Z
UID:10002478-1877457600-1877471940@fablab-bruchsal.de
SUMMARY:Regulär geöffnet
DESCRIPTION:Das FabLab ist jeden Freitag ab 20 Uhr geöffnet\, offenes Ende. Mitglieder und Besucher können in dieser Zeit vorbei kommen und unsere Werkstatt nutzen.
URL:https://fablab-bruchsal.de/event/regulaer-geoeffnet/2029-06-29/
LOCATION:FabLab Bruchsal\, Bahnhofstr. 2\, Ubstadt Weiher\, Baden-Württemberg\, Deutschland
ORGANIZER;CN="FabLab Bruchsal":MAILTO:kontakt@fablab-bruchsal.de
END:VEVENT
END:VCALENDAR